BEGIN:VCALENDAR
VERSION:2.0
PRODID:-//hacksw/handcal//NONSGML v1.0//EN
CALSCALE:GREGORIAN
BEGIN:VEVENT
DTEND:20250507T183000Z
UID: 69eb33a581581
DTSTAMP:20260424T041101Z
LOCATION:Westerlin Residence Center
DESCRIPTION:Augustana's Endowment Society encourages all interested persons to gather for the monthly meeting.This month\, Dr. Ann Perreau will present "Augustana's QC Community Connection Through the Roseman Center for Speech\, Language and Hearing."
URL;VALUE=URI:https://augustana.edu/about-us/events/2025/augustana-endowment-society-meeting-may
SUMMARY:Augustana Endowment Society meeting
DTSTART:20250507T183000Z
END:VEVENT
END:VCALENDAR
