BEGIN:VCALENDAR
VERSION:2.0
PRODID:-//hacksw/handcal//NONSGML v1.0//EN
CALSCALE:GREGORIAN
BEGIN:VEVENT
DTEND:20241025T213000Z
UID: 69eb339f0e867
DTSTAMP:20260424T041055Z
LOCATION:John Deere Planetarium and Carl Gamble Observatory
DESCRIPTION:
URL;VALUE=URI:https://augustana.edu/about-us/events/2024/guest-speaker-dr-matt-fockler
SUMMARY:Guest speaker: Dr. Matt Fockler
DTSTART:20241025T213000Z
END:VEVENT
END:VCALENDAR
