BEGIN:VCALENDAR
VERSION:2.0
PRODID:-//hacksw/handcal//NONSGML v1.0//EN
CALSCALE:GREGORIAN
BEGIN:VEVENT
DTEND:20241106T190000Z
UID: 69eb50b6d7bc0
DTSTAMP:20260424T061502Z
LOCATION:Hanson Hall of Science
DESCRIPTION:Are you interested in nursing? Come to the Trinity nursing info session! Learn more about the B.A.-B.S.N. and B.A.-M.S.N. programs offered through Trinity College of Nursing and Health Sciences in Rock Island.
URL;VALUE=URI:https://augustana.edu/about-us/events/2024/trinity-nursing-info-session
SUMMARY:Trinity nursing info session
DTSTART:20241106T190000Z
END:VEVENT
END:VCALENDAR
