BEGIN:VCALENDAR
VERSION:2.0
PRODID:-//hacksw/handcal//NONSGML v1.0//EN
CALSCALE:GREGORIAN
BEGIN:VEVENT
DTEND:20241108T190000Z
UID: 69eb5335cb974
DTSTAMP:20260424T062541Z
LOCATION:The Gerber Center for Student Life
DESCRIPTION:
URL;VALUE=URI:https://augustana.edu/about-us/events/2024/gold-and-bold-first-gen-day-celebration
SUMMARY:'Gold and Bold' First Gen Day Celebration
DTSTART:20241108T190000Z
END:VEVENT
END:VCALENDAR
