BEGIN:VCALENDAR
VERSION:2.0
PRODID:-//hacksw/handcal//NONSGML v1.0//EN
CALSCALE:GREGORIAN
BEGIN:VEVENT
DTEND:20241120T220000Z
UID: 69eb507c64166
DTSTAMP:20260424T061404Z
LOCATION:The Gerber Center for Student Life
DESCRIPTION:
URL;VALUE=URI:https://augustana.edu/about-us/events/2024/transgender-day-remembrance
SUMMARY:Transgender Day of Remembrance
DTSTART:20241120T220000Z
END:VEVENT
END:VCALENDAR
