BEGIN:VCALENDAR
VERSION:2.0
PRODID:-//hacksw/handcal//NONSGML v1.0//EN
CALSCALE:GREGORIAN
BEGIN:VEVENT
DTEND:20241117T010000Z
UID: 69eb532acfd6b
DTSTAMP:20260424T062530Z
LOCATION:Wallenberg Hall\, Denkmann Memorial Building
DESCRIPTION:Senior Jessica Cotturone\, an applied mathematics\, music and computer science triple-major from Mukwonago\, Wis.\, will perform a violin recital.
URL;VALUE=URI:https://augustana.edu/about-us/events/2024/student-violin-recital-jessica-cotturone
SUMMARY:Student violin recital: Jessica Cotturone
DTSTART:20241117T010000Z
END:VEVENT
END:VCALENDAR
