BEGIN:VCALENDAR
VERSION:2.0
PRODID:-//hacksw/handcal//NONSGML v1.0//EN
CALSCALE:GREGORIAN
BEGIN:VEVENT
DTEND:20241114T190000Z
UID: 69eb5334f2c31
DTSTAMP:20260424T062540Z
LOCATION:Casa Latina
DESCRIPTION:Office of Student Inclusion and Diversity assistant director and LGBTQ+ coordinator Sam Wright and Leah Jorgensen from the Counseling Center will be available every Thursday from 1-2 p.m. to offer a supportive environment for the LGBTQ+ community. No registration required.
URL;VALUE=URI:https://augustana.edu/about-us/events/2024/lgbtq-mental-balance-check-1
SUMMARY:LGBTQ+ Mental Balance Check-In
DTSTART:20241114T190000Z
END:VEVENT
END:VCALENDAR
