BEGIN:VCALENDAR
VERSION:2.0
PRODID:-//hacksw/handcal//NONSGML v1.0//EN
CALSCALE:GREGORIAN
BEGIN:VEVENT
DTEND:20250202T190000Z
UID: 69e8ab4accd09
DTSTAMP:20260422T060442Z
LOCATION:The Gerber Center for Student Life
DESCRIPTION:The Tribe of Vikings Hall of Fame Class of 2025 will be inducted at a ceremony.The inductees are:Sarahbeth (Jones) Chargois '13\, track and fieldEnyo Dewith '76\, track and fieldSteve Durian '70\, wrestlingKenny Harris '86\, basketball and track and fieldChet Jacks '79\, basketball and track and fieldCrystal Putman Keller '82\, softball1991-92 wrestling team
URL;VALUE=URI:https://augustana.edu/about-us/events/2025/tribe-vikings-hall-fame-induction-ceremony
SUMMARY:Tribe of Vikings Hall of Fame induction ceremony
DTSTART:20250202T190000Z
END:VEVENT
END:VCALENDAR
