BEGIN:VCALENDAR
VERSION:2.0
PRODID:-//hacksw/handcal//NONSGML v1.0//EN
CALSCALE:GREGORIAN
BEGIN:VEVENT
DTEND:20250124T003000Z
UID: 69ea728e69b5c
DTSTAMP:20260423T142710Z
LOCATION:Peter J. Lindberg\, M.D.\, Center for Health and Human Performance
DESCRIPTION:Members of the Car Club will present a lesson on how to best take care of your car during the winter. Learn how to take care of the battery\, fluid\, tire pressure and more.
URL;VALUE=URI:https://augustana.edu/about-us/events/2025/presentation-winterize-your-car
SUMMARY:Presentation: 'Winterize Your Car'
DTSTART:20250124T003000Z
END:VEVENT
END:VCALENDAR
