BEGIN:VCALENDAR
VERSION:2.0
PRODID:-//hacksw/handcal//NONSGML v1.0//EN
CALSCALE:GREGORIAN
BEGIN:VEVENT
DTEND:20250214T190000Z
UID: 69e528ec54e52
DTSTAMP:20260419T141140Z
LOCATION:Old Main 
DESCRIPTION:Vocation! Want to learn how recent alumni got into graduate programs\, identified career paths\, and pursued job opportunities? The Department of History invites current students to Old Main 303 during the 1 p.m. common hour this Spring semester.On Feb. 14\, Rob Williams '19\, Augustana's assistant director of admissions in the Chicago region\, will present.
URL;VALUE=URI:https://augustana.edu/about-us/events/2025/history-department-alumni-speakers-series-rob-williams
SUMMARY:History Department alumni speakers series: Rob Williams
DTSTART:20250214T190000Z
END:VEVENT
END:VCALENDAR
