BEGIN:VCALENDAR
VERSION:2.0
PRODID:-//hacksw/handcal//NONSGML v1.0//EN
CALSCALE:GREGORIAN
BEGIN:VEVENT
DTEND:20250228T190000Z
UID: 69e5189a93376
DTSTAMP:20260419T130202Z
LOCATION:Old Main 
DESCRIPTION:Vocation! Want to learn how recent alumni got into graduate programs\, identified career paths\, and pursued job opportunities? The Department of History invites current students to Old Main 303 during the 1 p.m. common hour this Spring semester.On Feb. 28\, Atticus Garrison '17\, reference and instruction librarian for Black Hawk College\, will present.
URL;VALUE=URI:https://augustana.edu/about-us/events/2025/history-department-alumni-speakers-series-atticus-garrison
SUMMARY:History Department alumni speakers series: Atticus Garrison
DTSTART:20250228T190000Z
END:VEVENT
END:VCALENDAR
