BEGIN:VCALENDAR
VERSION:2.0
PRODID:-//hacksw/handcal//NONSGML v1.0//EN
CALSCALE:GREGORIAN
BEGIN:VEVENT
DTEND:20250404T180000Z
UID: 69e5179630f34
DTSTAMP:20260419T125742Z
LOCATION:Old Main 
DESCRIPTION:Vocation! Want to learn how recent alumni got into graduate programs\, identified career paths\, and pursued job opportunities? The Department of History invites current students to Old Main 303 during the 1 p.m. common hour this Spring semester.On April 4\, Rebecca Hopman '11\, archivist\, genealogist and historian at the Wisconsin Historical Society\, will present.
URL;VALUE=URI:https://augustana.edu/about-us/events/2025/history-department-alumni-speakers-series-rebecca-hopman
SUMMARY:History Department alumni speakers series: Rebecca Hopman
DTSTART:20250404T180000Z
END:VEVENT
END:VCALENDAR
