BEGIN:VCALENDAR
VERSION:2.0
PRODID:-//hacksw/handcal//NONSGML v1.0//EN
CALSCALE:GREGORIAN
BEGIN:VEVENT
DTEND:20250214T010000Z
UID: 69e517fe9f1a7
DTSTAMP:20260419T125926Z
LOCATION:The Gerber Center for Student Life
DESCRIPTION:Get ready to celebrate Black History Month with a fun and exciting bingo game! Test your knowledge\, learn amazing facts and win cool prizes.Sponsored by Black Student Union\, Multicultural Programming Board and Student Life Programming Board.
URL;VALUE=URI:https://augustana.edu/about-us/events/2025/black-history-month-bingo
SUMMARY:Black History Month Bingo
DTSTART:20250214T010000Z
END:VEVENT
END:VCALENDAR
