BEGIN:VCALENDAR
VERSION:2.0
PRODID:-//hacksw/handcal//NONSGML v1.0//EN
CALSCALE:GREGORIAN
BEGIN:VEVENT
DTEND:20250219T190000Z
UID: 69e517feee125
DTSTAMP:20260419T125926Z
LOCATION:Carlsson Evald Hall
DESCRIPTION:First-year students who are interested in a major in Business Administration or International Business are invited to meet with faculty members and the director of advising. We will introduce the two majors and five concentrations that we offer. You get to see the faculty members in person and learn about their expertise\, hobbies\, career paths and more. We look forward to seeing you! Jimmy John's sandwiches and cookies will be served.
URL;VALUE=URI:https://augustana.edu/about-us/events/2025/business-administration-open-house
SUMMARY:Business Administration open house
DTSTART:20250219T190000Z
END:VEVENT
END:VCALENDAR
