BEGIN:VCALENDAR
VERSION:2.0
PRODID:-//hacksw/handcal//NONSGML v1.0//EN
CALSCALE:GREGORIAN
BEGIN:VEVENT
DTEND:20250511T190000Z
UID: 69eb8fb8134b6
DTSTAMP:20260424T104352Z
LOCATION:Wallenberg Hall\, Denkmann Memorial Building
DESCRIPTION:Sayyod Mirzomurodov\, a part-time instructor of music\, will perform a clarinet recital.
URL;VALUE=URI:https://augustana.edu/about-us/events/2025/faculty-recital-sayyod-mirzomurodov-clarinet
SUMMARY:Faculty recital: Sayyod Mirzomurodov\, clarinet
DTSTART:20250511T190000Z
END:VEVENT
END:VCALENDAR
