BEGIN:VCALENDAR
VERSION:2.0
PRODID:-//hacksw/handcal//NONSGML v1.0//EN
CALSCALE:GREGORIAN
BEGIN:VEVENT
DTEND:20250510T210000Z
UID: 69eb8fd64573d
DTSTAMP:20260424T104422Z
LOCATION:The Gerber Center for Student Life
DESCRIPTION:African Students Association (ASA) is bringing you AfroFest: A Bridgerton Experience — a night where African heritage intertwines with the refined glamour of the Regency era. Inspired by Netflix’s "Bridgerton\," this event reimagines the history of African culture through an elegant lens.Expect an evening full of elegance\, community and celebration that will transport you into a world of sophistication rooted in African pride. We can’t wait to see you there\, dressed in your finest.
URL;VALUE=URI:https://augustana.edu/about-us/events/2025/afrofest-bridgerton-experience
SUMMARY:AfroFest: A Bridgerton Experience
DTSTART:20250510T210000Z
END:VEVENT
END:VCALENDAR
