BEGIN:VCALENDAR
VERSION:2.0
PRODID:-//hacksw/handcal//NONSGML v1.0//EN
CALSCALE:GREGORIAN
BEGIN:VEVENT
DTEND:20260523T190000Z
UID: 69ecd6ade4902
DTSTAMP:20260425T095853Z
LOCATION:Vibrant Arena at the Mark
DESCRIPTION:Augustana College will hold its 166th Commencement Convocation at 2 p.m. Doors open at noon.The ceremony will be live-streamed and archived on the college's YouTube channel.No tickets are required. Attendees will walk through metal detectors before entering the center.Purses\, backpacks and bags should be left at home or in a vehicle\, if possible. Airhorns\, noisemakers and helium balloons are prohibited.The ceremony will last approximately two hours\; please allow additional time to exit the building and parking lot.
URL;VALUE=URI:https://augustana.edu/about-us/events/2026/166th-commencement
SUMMARY:166th Commencement
DTSTART:20260523T190000Z
END:VEVENT
END:VCALENDAR
