BEGIN:VCALENDAR
VERSION:2.0
PRODID:-//hacksw/handcal//NONSGML v1.0//EN
CALSCALE:GREGORIAN
BEGIN:VEVENT
DTEND:20260411T140000Z
UID: 69e8cbe62541b
DTSTAMP:20260422T082350Z
LOCATION:Centennial Hall
DESCRIPTION:It Begins With A is a tradition at Augustana. And it's a celebration! It's a day for admitted students to meet others who have chosen Augustana\, and those still deciding. Take a campus tour\, have lunch in the dining hall and more.→ Sign up now!
URL;VALUE=URI:https://augustana.edu/about-us/events/2026/it-begins
SUMMARY:It Begins With A
DTSTART:20260411T140000Z
END:VEVENT
END:VCALENDAR
