BEGIN:VCALENDAR
VERSION:2.0
PRODID:-//hacksw/handcal//NONSGML v1.0//EN
CALSCALE:GREGORIAN
BEGIN:VEVENT
DTEND:20260510T210000Z
UID: 69ed257e1f5c4
DTSTAMP:20260425T153510Z
LOCATION:Centennial Hall
DESCRIPTION:The Augustana Concert Band will perform\, directed by Dr. Tony Oliver.
URL;VALUE=URI:https://augustana.edu/about-us/events/2026/augustana-concert-band-concert-0
SUMMARY:Augustana Concert Band concert
DTSTART:20260510T210000Z
END:VEVENT
END:VCALENDAR
