BEGIN:VCALENDAR
VERSION:2.0
PRODID:-//hacksw/handcal//NONSGML v1.0//EN
CALSCALE:GREGORIAN
BEGIN:VEVENT
DTEND:20260418T140000Z
UID: 69e9a86601d18
DTSTAMP:20260423T000438Z
LOCATION:
DESCRIPTION:Campus Recreation will host a virtual yoga session on Saturdays.
URL;VALUE=URI:https://augustana.edu/about-us/events/2026/saturday-yoga
SUMMARY:Saturday yoga
DTSTART:20260418T140000Z
END:VEVENT
END:VCALENDAR
