BEGIN:VCALENDAR
VERSION:2.0
PRODID:-//hacksw/handcal//NONSGML v1.0//EN
CALSCALE:GREGORIAN
BEGIN:VEVENT
DTEND:20260401T183000Z
UID: 69eb44781f0e3
DTSTAMP:20260424T052248Z
LOCATION:Westerlin Residence Center
DESCRIPTION:Augustana's Endowment Society encourages all interested persons to gather for the monthly meeting.This month\, Dr. Scott Gehler\, Associate Professor of Biology\, will present “Direct Entry 2+2 Nursing Program with Trinity Nursing &amp\; Health Sciences.”
URL;VALUE=URI:https://augustana.edu/about-us/events/2026/augustana-endowment-society-meeting-1
SUMMARY:Augustana Endowment Society meeting
DTSTART:20260401T183000Z
END:VEVENT
END:VCALENDAR
