BEGIN:VCALENDAR
VERSION:2.0
PRODID:-//hacksw/handcal//NONSGML v1.0//EN
CALSCALE:GREGORIAN
BEGIN:VEVENT
DTEND:20251010T180000Z
UID: 69e74f3207c24
DTSTAMP:20260421T051930Z
LOCATION:Hanson Hall of Science
DESCRIPTION:Are you interested in nursing? Come to the Trinity Nursing info session 1-2 p.m.!Learn more about the B.A.-B.S.N. and B.A.-M.S.N. programs offered through Trinity College of Nursing &amp\; Health Sciences in Rock Island.
URL;VALUE=URI:https://augustana.edu/about-us/events/2025/trinity-nursing-info-session
SUMMARY:Trinity Nursing info session
DTSTART:20251010T180000Z
END:VEVENT
END:VCALENDAR
