BEGIN:VCALENDAR
VERSION:2.0
PRODID:-//hacksw/handcal//NONSGML v1.0//EN
CALSCALE:GREGORIAN
BEGIN:VEVENT
DTEND:20251022T220000Z
UID: 69e74eee228f9
DTSTAMP:20260421T051822Z
LOCATION:Olin Center for Educational Technology
DESCRIPTION:Learn about the amazing opportunities that come with studying abroad. Been on the fence about studying abroad? We will discuss the importance of it and all the experiences and knowledge that come along with it. Hear from our own personal semester study abroad experiences.See flyer
URL;VALUE=URI:https://augustana.edu/about-us/events/2025/importance-study-abroad
SUMMARY:The Importance of Study Abroad
DTSTART:20251022T220000Z
END:VEVENT
END:VCALENDAR
