BEGIN:VCALENDAR
VERSION:2.0
PRODID:-//hacksw/handcal//NONSGML v1.0//EN
CALSCALE:GREGORIAN
BEGIN:VEVENT
DTEND:20251012T000000Z
UID: 69e5df64806ab
DTSTAMP:20260420T031012Z
LOCATION:The Gerber Center for Student Life
DESCRIPTION:Have you ever experienced a Mongolian traditional event? The Mongolian Student Organization (MSO) is hosting Naadam\, a traditional Mongolian cultural event\, and we would love for you to join!The event will include a premiere of the Mongolian movie "The Legend of Gobi\," authentic Mongolian dinner cuisine\, and fun traditional games and activities.This is a great opportunity to experience Mongolian heritage\, try new food and connect with friends. Don’t miss it!
URL;VALUE=URI:https://augustana.edu/about-us/events/2025/naadam
SUMMARY:Naadam
DTSTART:20251012T000000Z
END:VEVENT
END:VCALENDAR
