BEGIN:VCALENDAR
VERSION:2.0
PRODID:-//hacksw/handcal//NONSGML v1.0//EN
CALSCALE:GREGORIAN
BEGIN:VEVENT
DTEND:20251013T230000Z
UID: 69e61906565fc
DTSTAMP:20260420T071606Z
LOCATION:The Gerber Center for Student Life
DESCRIPTION:Join NAMI for some pumpkin painting in the You Belong Lounge! Destress and have some fun before midterms and fall break.
URL;VALUE=URI:https://augustana.edu/about-us/events/2025/pumpkin-painting
SUMMARY:Pumpkin painting
DTSTART:20251013T230000Z
END:VEVENT
END:VCALENDAR
