BEGIN:VCALENDAR
VERSION:2.0
PRODID:-//hacksw/handcal//NONSGML v1.0//EN
CALSCALE:GREGORIAN
BEGIN:VEVENT
DTEND:20251118T000000Z
UID: 69eba5ae9402c
DTSTAMP:20260424T121734Z
LOCATION:The Gerber Center for Student Life
DESCRIPTION:
URL;VALUE=URI:https://augustana.edu/about-us/events/2025/paint-your-boundaries
SUMMARY:Paint Your Boundaries
DTSTART:20251118T000000Z
END:VEVENT
END:VCALENDAR
