BEGIN:VCALENDAR
VERSION:2.0
PRODID:-//hacksw/handcal//NONSGML v1.0//EN
CALSCALE:GREGORIAN
BEGIN:VEVENT
DTEND:20251219T160000Z
UID: 69e6b98fa9afc
DTSTAMP:20260420T184103Z
LOCATION:Andreen Residence Hall
DESCRIPTION:Students remaining on campus over the break can enjoy crafts\, games\, puzzles and a cozy hangout in the Andreen common area starting around 10 a.m. Lunch and Christmas goodies will be served around noon.
URL;VALUE=URI:https://augustana.edu/about-us/events/2025/student-holiday-party
SUMMARY:Student holiday party
DTSTART:20251219T160000Z
END:VEVENT
END:VCALENDAR
