BEGIN:VCALENDAR
VERSION:2.0
PRODID:-//hacksw/handcal//NONSGML v1.0//EN
CALSCALE:GREGORIAN
BEGIN:VEVENT
DTEND:20260315T160000Z
UID: 69eb5c4e74234
DTSTAMP:20260424T070430Z
LOCATION:Ascension Chapel
DESCRIPTION:Campus Ministries presents Sunday worship with&nbsp\;Pastor Melinda Pupillo.
URL;VALUE=URI:https://augustana.edu/about-us/events/2026/festival-worship-0
SUMMARY:Festival Worship
DTSTART:20260315T160000Z
END:VEVENT
END:VCALENDAR
