BEGIN:VCALENDAR
VERSION:2.0
PRODID:-//hacksw/handcal//NONSGML v1.0//EN
CALSCALE:GREGORIAN
BEGIN:VEVENT
DTEND:20260218T190100Z
UID: 69eba175d0f5b
DTSTAMP:20260424T115933Z
LOCATION:Ascension Chapel
DESCRIPTION:Campus Ministries will offer services for Ash Wednesday at 1:01 p.m. and 8:31 p.m.\, as well as an Augie Catholic service at 4 p.m.
URL;VALUE=URI:https://augustana.edu/about-us/events/2026/ash-wednesday-service-0
SUMMARY:Ash Wednesday service
DTSTART:20260218T190100Z
END:VEVENT
END:VCALENDAR
