BEGIN:VCALENDAR
VERSION:2.0
PRODID:-//hacksw/handcal//NONSGML v1.0//EN
CALSCALE:GREGORIAN
BEGIN:VEVENT
DTEND:20260424T230000Z
UID: 69e846868f305
DTSTAMP:20260421T225446Z
LOCATION:Wallenberg Hall\, Denkmann Memorial Building
DESCRIPTION:
URL;VALUE=URI:https://augustana.edu/about-us/events/2026/apep-trivia-night-and-silent-auction
SUMMARY:APEP trivia night and silent auction
DTSTART:20260424T230000Z
END:VEVENT
END:VCALENDAR
