BEGIN:VCALENDAR
VERSION:2.0
PRODID:-//hacksw/handcal//NONSGML v1.0//EN
CALSCALE:GREGORIAN
BEGIN:VEVENT
DTEND:20260411T003000Z
UID: 69ebd8711d95b
DTSTAMP:20260424T155409Z
LOCATION:Hanson Hall of Science
DESCRIPTION:
URL;VALUE=URI:https://augustana.edu/about-us/events/2026/guest-speaker-dr-jennifer-lee-optical-cavities-gravity-sensing
SUMMARY:Guest speaker: Dr. Jennifer Lee\, 'Optical Cavities for Gravity Sensing'
DTSTART:20260411T003000Z
END:VEVENT
END:VCALENDAR
