BEGIN:VCALENDAR
VERSION:2.0
PRODID:-//hacksw/handcal//NONSGML v1.0//EN
CALSCALE:GREGORIAN
BEGIN:VEVENT
DTEND:20260408T003000Z
UID: 69ecc54e58de3
DTSTAMP:20260425T084446Z
LOCATION:Wallenberg Hall\, Denkmann Memorial Building
DESCRIPTION:Junior Dianna Hester\, a Neuroscience and Philosophy major\, will perform a cello recital.
URL;VALUE=URI:https://augustana.edu/about-us/events/2026/student-recital-dianna-hester-cello
SUMMARY:Student Recital: Dianna Hester\, cello
DTSTART:20260408T003000Z
END:VEVENT
END:VCALENDAR
