BEGIN:VCALENDAR
VERSION:2.0
PRODID:-//hacksw/handcal//NONSGML v1.0//EN
CALSCALE:GREGORIAN
BEGIN:VEVENT
DTEND:20260419T000000Z
UID: 69ecc5346d21d
DTSTAMP:20260425T084420Z
LOCATION:Wallenberg Hall\, Denkmann Memorial Building
DESCRIPTION:JT Gawron\, a music education major\, will perform a bass trombone recital.Alex Sell\, a sophomore majoring in biochemistry\, will perform a bass trombone recital.Adi Walker\, a biology major\, will perform a tenor trombone recital.
URL;VALUE=URI:https://augustana.edu/about-us/events/2026/student-recital
SUMMARY:Student Recital
DTSTART:20260419T000000Z
END:VEVENT
END:VCALENDAR
