BEGIN:VCALENDAR
VERSION:2.0
PRODID:-//hacksw/handcal//NONSGML v1.0//EN
CALSCALE:GREGORIAN
BEGIN:VEVENT
DTEND:20260506T230000Z
UID: 69e7a3e2691ad
DTSTAMP:20260421T112050Z
LOCATION:Hanson Hall of Science
DESCRIPTION:A screening of the documentary film "The Alabama Solution" will be followed by panel discussion of formerly incarcerated members of the Quad Cities community.The film follows the prison system in Alabama from the perspective of incarcerated leaders. The film premiered at the 2025 Sundance Film Festival and was released by HBO and HBO Max. At the 98th Academy Awards\, it was nominated for Best Documentary. (Wikipedia)Sponsored by the Augustana Prison Education Program.
URL;VALUE=URI:https://augustana.edu/about-us/events/2026/alabama-solution
SUMMARY:The Alabama Solution
DTSTART:20260506T230000Z
END:VEVENT
END:VCALENDAR
