BEGIN:VCALENDAR
VERSION:2.0
PRODID:-//hacksw/handcal//NONSGML v1.0//EN
CALSCALE:GREGORIAN
BEGIN:VEVENT
DTEND:20260509T213000Z
UID: 69ed0dad1745f
DTSTAMP:20260425T135333Z
LOCATION:Wallenberg Hall\, Denkmann Memorial Building
DESCRIPTION:Junior Jon Hansen and senior Michael Njus will perform a vocal recital.
URL;VALUE=URI:https://augustana.edu/about-us/events/2026/student-voice-recital-jon-jansen-and-michael-njus
SUMMARY:Student voice recital: Jon Jansen and Michael Njus
DTSTART:20260509T213000Z
END:VEVENT
END:VCALENDAR
